BEGIN:VCALENDAR
PRODID:-//www.kouvolankeilahalli.fi//FI
VERSION:2.0
METHOD:PUBLISH
BEGIN:VEVENT
DTSTART;TZID=Europe/Helsinki:20190725T
DTEND;TZID=Europe/Helsinki:20190725T
URL:https://www.kouvolankeilahalli.fi/tapatumat/puulaaki-keilailu/
SUMMARY:Puulaaki keilailu
LOCATION:
DESCRIPTION:Yritykset, kaveriporukat yms...
END:VEVENT
END:VCALENDAR